BEGIN:VCALENDAR
VERSION:2.0
PRODID:-//InvisionCommunity Events 4.7.23//EN
METHOD:PUBLISH
CALSCALE:GREGORIAN
REFRESH-INTERVAL:PT15M
X-PUBLISHED-TTL:PT15M
X-WR-CALNAME:Community Calendar
NAME:Community Calendar
BEGIN:VTIMEZONE
TZID:Europe/London
TZURL:http://tzurl.org/zoneinfo/Europe/London
X-LIC-LOCATION:Europe/London
BEGIN:DAYLIGHT
TZOFFSETFROM:+0000
TZOFFSETTO:+0100
TZNAME:BST
DTSTART:20170326T020000Z
RRULE:FREQ=YEARLY;BYMONTH=3;BYDAY=-1SU
END:DAYLIGHT
BEGIN:STANDARD
TZOFFSETFROM:+0100
TZOFFSETTO:+0000
TZNAME:GMT
DTSTART:20171029T020000Z
RRULE:FREQ=YEARLY;BYMONTH=10;BYDAY=-1SU
END:STANDARD
END:VTIMEZONE
BEGIN:VEVENT
SUMMARY:Event: Infected! (with AoS)
DTSTAMP:20170303T121802Z
SEQUENCE:0
UID:17-1-21001d74af3b4873c1714a91d9d0e3dd@teammuppet.com
ORGANIZER;CN="Eagle_cz":mrmuppet@teammuppet.com
DESCRIPTION:\n\n	http://teammuppet.eu/home/forums/topic/16219-event-infe
	cted-with-aos/\n\n\n\nTL\;DR section\nInfected event with AoS community\, 
	4th of March\, 7pm GMT (Uk time!)\, wear diapers\n\n\nCopy&amp\;Paste sect
	ion\n/connect 46.4.11.251:27970\n\n\nTeamspeak section\nAoS teamspeak: 108
	.61.166.18:9253\n\n\n	 \n\n\n\n	 \n\n
DTSTART:20170304T180000Z
DTEND:20170304T225900Z
END:VEVENT
END:VCALENDAR
