BEGIN:VCALENDAR
VERSION:2.0
PRODID:-//InvisionCommunity Events 4.7.23//EN
METHOD:PUBLISH
CALSCALE:GREGORIAN
REFRESH-INTERVAL:PT15M
X-PUBLISHED-TTL:PT15M
X-WR-CALNAME:Community Calendar
NAME:Community Calendar
BEGIN:VTIMEZONE
TZID:Europe/London
TZURL:http://tzurl.org/zoneinfo/Europe/London
X-LIC-LOCATION:Europe/London
BEGIN:DAYLIGHT
TZOFFSETFROM:+0000
TZOFFSETTO:+0100
TZNAME:BST
DTSTART:20120325T020000Z
RRULE:FREQ=YEARLY;BYMONTH=3;BYDAY=-1SU
END:DAYLIGHT
BEGIN:STANDARD
TZOFFSETFROM:+0100
TZOFFSETTO:+0000
TZNAME:GMT
DTSTART:20121028T020000Z
RRULE:FREQ=YEARLY;BYMONTH=10;BYDAY=-1SU
END:STANDARD
END:VTIMEZONE
BEGIN:VEVENT
SUMMARY:Panzer and sniper war event
DTSTAMP:20121028T204104Z
SEQUENCE:1
UID:5-1-21001d74af3b4873c1714a91d9d0e3dd@teammuppet.com
ORGANIZER;CN="Miki":mrmuppet@teammuppet.com
DESCRIPTION:\nPanzer and sniper war eventProbably start at 19:00 GMTMore
	 info http://www.teammuppet.eu/home/index.php?/topic/9740-panzer-and-snipe
	r-war/.\n
DTSTART;VALUE=DATE:20121111
END:VEVENT
END:VCALENDAR
